BEGIN:VCALENDAR
VERSION:2.0
PRODID:-//eventon.com NONSGML v1.0//EN
CALSCALE:GREGORIAN
METHOD:PUBLISH
BEGIN:VEVENT
UID:69e5f1efceb67
DTSTAMP:20260420T092919Z
DTSTART:20250301
DTEND:20250401
LOCATION:
SUMMARY:Weiterbildung zum Personal & Business Coach KÃ¶ln | Wochenendkurs
DESCRIPTION:Personal &amp; Business Coach | KÃ¶ln | Wochenendkurs CA183K 29
 .03.2025 â€“ 26.04.2026 | KÃ¶ln | Wochenendkurs Anmeldeschluss: 24.02.2025Â
 ­Â­Â­Â­ Kurzbeschreibung der Weiterbildung: Am 29.03.2025 startet wieder ei
 n neuer Ausbildungsgang zum Systemischen Personal &amp; Business Coach in K
 Ã¶ln! Die Ausbildung findet an 14 Terminen verteilt Ã¼ber ein Jahr statt. N
 eben 300 Stunden[..]\nhttps://european-coaching-association.de/events/weite
 rbildung-zum-personal-business-coach-koeln-wochenendkurs/
URL:https://european-coaching-association.de/events/weiterbildung-zum-personal-business-coach-koeln-wochenendkurs/
END:VEVENT
END:VCALENDAR